BEGIN:VCALENDAR
VERSION:2.0
PRODID:-//Medina Community Band - ECPv6.15.20//NONSGML v1.0//EN
CALSCALE:GREGORIAN
METHOD:PUBLISH
X-WR-CALNAME:Medina Community Band
X-ORIGINAL-URL:https://medinacommunityband.org
X-WR-CALDESC:Events for Medina Community Band
REFRESH-INTERVAL;VALUE=DURATION:PT1H
X-Robots-Tag:noindex
X-PUBLISHED-TTL:PT1H
BEGIN:VTIMEZONE
TZID:America/New_York
BEGIN:DAYLIGHT
TZOFFSETFROM:-0500
TZOFFSETTO:-0400
TZNAME:EDT
DTSTART:20230312T070000
END:DAYLIGHT
BEGIN:STANDARD
TZOFFSETFROM:-0400
TZOFFSETTO:-0500
TZNAME:EST
DTSTART:20231105T060000
END:STANDARD
BEGIN:DAYLIGHT
TZOFFSETFROM:-0500
TZOFFSETTO:-0400
TZNAME:EDT
DTSTART:20240310T070000
END:DAYLIGHT
BEGIN:STANDARD
TZOFFSETFROM:-0400
TZOFFSETTO:-0500
TZNAME:EST
DTSTART:20241103T060000
END:STANDARD
BEGIN:DAYLIGHT
TZOFFSETFROM:-0500
TZOFFSETTO:-0400
TZNAME:EDT
DTSTART:20250309T070000
END:DAYLIGHT
BEGIN:STANDARD
TZOFFSETFROM:-0400
TZOFFSETTO:-0500
TZNAME:EST
DTSTART:20251102T060000
END:STANDARD
END:VTIMEZONE
BEGIN:VEVENT
DTSTART;TZID=America/New_York:20240628T203000
DTEND;TZID=America/New_York:20240628T213000
DTSTAMP:20260423T203506
CREATED:20240203T230314Z
LAST-MODIFIED:20240210T172308Z
UID:4682-1719606600-1719610200@medinacommunityband.org
SUMMARY:MCB Summer Series
DESCRIPTION:
URL:https://medinacommunityband.org/events/mcb-summer-series/2024-06-28/
ATTACH;FMTTYPE=image/jpeg:https://medinacommunityband.org/wp-content/uploads/2024/02/2022-07-15-a-1.jpg
END:VEVENT
BEGIN:VEVENT
DTSTART;TZID=America/New_York:20240621T203000
DTEND;TZID=America/New_York:20240621T213000
DTSTAMP:20260423T203506
CREATED:20240203T230314Z
LAST-MODIFIED:20240210T172307Z
UID:4681-1719001800-1719005400@medinacommunityband.org
SUMMARY:MCB Summer Series
DESCRIPTION:
URL:https://medinacommunityband.org/events/mcb-summer-series/2024-06-21/
ATTACH;FMTTYPE=image/jpeg:https://medinacommunityband.org/wp-content/uploads/2024/02/2022-07-15-a-1.jpg
END:VEVENT
BEGIN:VEVENT
DTSTART;TZID=America/New_York:20240614T203000
DTEND;TZID=America/New_York:20240614T213000
DTSTAMP:20260423T203506
CREATED:20240203T230314Z
LAST-MODIFIED:20240210T172306Z
UID:4680-1718397000-1718400600@medinacommunityband.org
SUMMARY:MCB Summer Series
DESCRIPTION:
URL:https://medinacommunityband.org/events/mcb-summer-series/2024-06-14/
ATTACH;FMTTYPE=image/jpeg:https://medinacommunityband.org/wp-content/uploads/2024/02/2022-07-15-a-1.jpg
END:VEVENT
BEGIN:VEVENT
DTSTART;TZID=America/New_York:20240607T203000
DTEND;TZID=America/New_York:20240607T213000
DTSTAMP:20260423T203506
CREATED:20240203T230314Z
LAST-MODIFIED:20240210T172306Z
UID:4679-1717792200-1717795800@medinacommunityband.org
SUMMARY:MCB Summer Series
DESCRIPTION:
URL:https://medinacommunityband.org/events/mcb-summer-series/2024-06-07/
ATTACH;FMTTYPE=image/jpeg:https://medinacommunityband.org/wp-content/uploads/2024/02/2022-07-15-a-1.jpg
END:VEVENT
END:VCALENDAR