BEGIN:VCALENDAR
VERSION:2.0
PRODID:-//Medina Community Band - ECPv6.15.20//NONSGML v1.0//EN
CALSCALE:GREGORIAN
METHOD:PUBLISH
X-WR-CALNAME:Medina Community Band
X-ORIGINAL-URL:https://medinacommunityband.org
X-WR-CALDESC:Events for Medina Community Band
REFRESH-INTERVAL;VALUE=DURATION:PT1H
X-Robots-Tag:noindex
X-PUBLISHED-TTL:PT1H
BEGIN:VTIMEZONE
TZID:America/New_York
BEGIN:DAYLIGHT
TZOFFSETFROM:-0500
TZOFFSETTO:-0400
TZNAME:EDT
DTSTART:20230312T070000
END:DAYLIGHT
BEGIN:STANDARD
TZOFFSETFROM:-0400
TZOFFSETTO:-0500
TZNAME:EST
DTSTART:20231105T060000
END:STANDARD
BEGIN:DAYLIGHT
TZOFFSETFROM:-0500
TZOFFSETTO:-0400
TZNAME:EDT
DTSTART:20240310T070000
END:DAYLIGHT
BEGIN:STANDARD
TZOFFSETFROM:-0400
TZOFFSETTO:-0500
TZNAME:EST
DTSTART:20241103T060000
END:STANDARD
BEGIN:DAYLIGHT
TZOFFSETFROM:-0500
TZOFFSETTO:-0400
TZNAME:EDT
DTSTART:20250309T070000
END:DAYLIGHT
BEGIN:STANDARD
TZOFFSETFROM:-0400
TZOFFSETTO:-0500
TZNAME:EST
DTSTART:20251102T060000
END:STANDARD
END:VTIMEZONE
BEGIN:VEVENT
DTSTART;TZID=America/New_York:20240726T203000
DTEND;TZID=America/New_York:20240726T213000
DTSTAMP:20260423T142955
CREATED:20240203T231245Z
LAST-MODIFIED:20240210T171637Z
UID:4690-1722025800-1722029400@medinacommunityband.org
SUMMARY:MCB Summer Series
DESCRIPTION:
URL:https://medinacommunityband.org/events/mcb-summer-series-2/2024-07-26/
LOCATION:Uptown Park Gazebo\, Uptown Park Gazebo\, Medina\, OH\, 44256\, United States
ATTACH;FMTTYPE=image/jpeg:https://medinacommunityband.org/wp-content/uploads/2024/02/2022-07-15-a-1.jpg
END:VEVENT
BEGIN:VEVENT
DTSTART;TZID=America/New_York:20240719T203000
DTEND;TZID=America/New_York:20240719T213000
DTSTAMP:20260423T142955
CREATED:20240203T231245Z
LAST-MODIFIED:20240210T171636Z
UID:4689-1721421000-1721424600@medinacommunityband.org
SUMMARY:MCB Summer Series
DESCRIPTION:
URL:https://medinacommunityband.org/events/mcb-summer-series-2/2024-07-19/
LOCATION:Uptown Park Gazebo\, Uptown Park Gazebo\, Medina\, OH\, 44256\, United States
ATTACH;FMTTYPE=image/jpeg:https://medinacommunityband.org/wp-content/uploads/2024/02/2022-07-15-a-1.jpg
END:VEVENT
BEGIN:VEVENT
DTSTART;TZID=America/New_York:20240712T203000
DTEND;TZID=America/New_York:20240712T213000
DTSTAMP:20260423T142955
CREATED:20240203T231245Z
LAST-MODIFIED:20240210T171635Z
UID:4688-1720816200-1720819800@medinacommunityband.org
SUMMARY:MCB Summer Series
DESCRIPTION:
URL:https://medinacommunityband.org/events/mcb-summer-series-2/2024-07-12/
LOCATION:Uptown Park Gazebo\, Uptown Park Gazebo\, Medina\, OH\, 44256\, United States
ATTACH;FMTTYPE=image/jpeg:https://medinacommunityband.org/wp-content/uploads/2024/02/2022-07-15-a-1.jpg
END:VEVENT
END:VCALENDAR