BEGIN:VCALENDAR
VERSION:2.0
PRODID:-//Medina Community Band - ECPv6.15.20//NONSGML v1.0//EN
CALSCALE:GREGORIAN
METHOD:PUBLISH
X-ORIGINAL-URL:https://medinacommunityband.org
X-WR-CALDESC:Events for Medina Community Band
REFRESH-INTERVAL;VALUE=DURATION:PT1H
X-Robots-Tag:noindex
X-PUBLISHED-TTL:PT1H
BEGIN:VTIMEZONE
TZID:America/New_York
BEGIN:DAYLIGHT
TZOFFSETFROM:-0500
TZOFFSETTO:-0400
TZNAME:EDT
DTSTART:20190310T070000
END:DAYLIGHT
BEGIN:STANDARD
TZOFFSETFROM:-0400
TZOFFSETTO:-0500
TZNAME:EST
DTSTART:20191103T060000
END:STANDARD
BEGIN:DAYLIGHT
TZOFFSETFROM:-0500
TZOFFSETTO:-0400
TZNAME:EDT
DTSTART:20200308T070000
END:DAYLIGHT
BEGIN:STANDARD
TZOFFSETFROM:-0400
TZOFFSETTO:-0500
TZNAME:EST
DTSTART:20201101T060000
END:STANDARD
BEGIN:DAYLIGHT
TZOFFSETFROM:-0500
TZOFFSETTO:-0400
TZNAME:EDT
DTSTART:20210314T070000
END:DAYLIGHT
BEGIN:STANDARD
TZOFFSETFROM:-0400
TZOFFSETTO:-0500
TZNAME:EST
DTSTART:20211107T060000
END:STANDARD
END:VTIMEZONE
BEGIN:VEVENT
DTSTART;VALUE=DATE:20200131
DTEND;VALUE=DATE:20200201
DTSTAMP:20260424T032642
CREATED:20191021T235932Z
LAST-MODIFIED:20200112T225744Z
UID:2343-1580428800-1580515199@medinacommunityband.org
SUMMARY:Senior Solo Competition Deadline
DESCRIPTION:Medina Community Band High School Senior Solo Competition\nThe Medina Community Band senior solo competition is open to any high school senior instrumentalist attending one of Medina County’s public\, private high schools\, or home school.  All applicants must be enrolled as members of their school’s performing ensemble when applying and must continue their participation during the 2019-2020 academic year.  Home school students may apply if sponsored by their private teacher.  The parent of the home-schooled student will serve as school administrator. \nThe winner must be able to perform at the Medina Community Band Spring Concert on Sunday\, May 3\, 2020. Winner must also attend rehearsals (TBA).  A cash scholarship prize of $500 will be awarded to the competition winner. The winner(s) will be announced by on/before Friday\, February 28\, 2020.  All applicants will be notified via email. \n  \nApplication Procedure\nAll applicants will prepare a video digital recording of their solo (with or without accompaniment).  The cut-off for receipt of the YouTube video link and application is  11:59 p.m.\, Friday\, January 31\, 2020.  Videos will be uploaded to YouTube.  Students will need to have their own YouTube accounts so they can upload a video\, make it “unlisted\,” and then share the links with marcusneiman@medinacommunityband.org\,  via email. \nApplication form: Students interested in applying for the competition should download and complete the application form (click on link – 2019 – MCB Solo Competition Application).  All signatures and information must be included for the application to be valid.  The application form should be completed\, signed\, and scanned\, then emailed to Marcus Neiman\, conductor\, Medina Community Band (marcusneiman@medinacommunityband.org) by the posted deadline. \nVideo:  Students should begin their video by announcing in a clear voice:  their name\, high school\, composition\, composer/arranger and then play their solo.  \nCLICK – 2020 MCB – Student Applications Blank – as of 19 11 02b – CLICK\nSolo literature will be taken from the list below.  Solos need not be memorized. \nMusic Selection List\n\n\n\nInstrument\nComposition\nComposer/Arranger\nPublisher\n\nComments\n\n\n \n \n \n \n \n\n\nFlute\nCarnival of Venice\nBriccialdi/Wilkins\nLudwig Music (1958)\n \n\n\n \nConcerto No 2 in D Major KV314\n\nMozart/Monroe\nLittle Piper (1983)\nfirst or third movement\n\n\n \nConcertino\, Op. 107\nChaminade/Wilson\nCarl Fischer (1960)\n \n\n\n \nFantasie Pastorale Hongroise\nDoppler/Bourgeois\nWingert Jones (2017)\n \n\n\n \nVariations and Theme\nMcGinty\nJenson (1979)\n \n\n\nOboe\nConcertino for Oboe in C Major\n\nvon Weber/Klocker\nEdition Kunzelmann (1981)\n \n\n\nBassoon\nFantastic Polka\n\nPryor/Fuller\n \n \n\n\nClarinet\nCaprice Brillant\n\nJeanjean/Wall\nDetroit Concert Band (1980)\n \n\n\n \nConcertino\, Op. 26\n\nVon Weber/Lake\nCarl  Fischer (1924)\n \n\n\n \nConcerto for Clarinet\n\nMozart/Casteel\nKendor (1965)\nRondo\n\n\n \nFirst (Premier) Concertino\nGuilhaud/Bennett\nSESAC (1982)\n \n\n\nAlto Saxophone\nCarnival of Venice\n\nDemersseman/Dich\nArne Dich\n \n\n\n \nTribute to Rudy Wiedoeft\n\nWiedoeft/Schuller\nRobbins (1951)\nany movement\n\n\nTenor Saxophone\nBeautiful Colorado\n\nDe Luca/Roberts\nCarl Fischer (1939)\n \n\n\nBaritone Saxophone\nCarnival of Venice (Variations)\n\nArban\n \n \n\n\nFrench Horn\nConcerto for Horn\n\nHermann\nEMR (1958)\n \n\n\n \nConcerto No 3 in E-flat\, VK447\n\nMozart/Bardeen\nKendor (1964)\nRondo\n\n\n \nMorceau de Concert\, Op 94\n\nSaint-Saens/Nelson\nShawnee Press (1979)\n \n\n\nCornet/Trumpet\nAtlantic Zephyrs\n\nSimons\nCarl Fischer (1915)\n \n\n\n \nBride of the Waves\n\nClarke\nM. Witmark (1915)\n \n\n\n \nCarnival of Venice\n\nStaigers\nCarl Fischer (1928)\n \n\n\n \nConcerto for Trumpet\n\nHaydn/Duthoit\nChappell & Co. (1948)\nfirst or third movement\n\n\n \nConcerto for Trumpet\n\nHummel/Ghitalla\nRobert King Music (1960)\nfirst or third movement\n\n\nTrombone\nAnnie Laurie (Air Varie)\n\nPyror/Smith\nLudwig Music (1958)\n \n\n\n \nBlue Bells of Scotland\n\nPryor/Pearson\nCarl Fischer (1904)\n \n\n\n \nMorceau Symphonique\n\nGuilmant/Shephard\nPro Arts (1966)\n \n\n\n \nPolka Caprice\n\nSimons\nHarry Coleman (1900)\n \n\n\nEuphonium\nBeautiful Colorado\n\nDe Luca/Roberts\nCarl Fischer (1939)\n \n\n\n \nBelieve Me Young Charms\n\nMantia/Glover\nDetroit Concert Band (1993)\n \n\n\n \nYellow Rose of Texas\n\nBuckley\nCimarron Music Press (1995)\n \n\n\nTuba\nBarbarossa\n\nBarnhouse\nC.L. Barnhouse (1897)\n \n\n\n \nBlue Bells of Scotland\n\nPryor/Pearson\nCarl Fischer (1904)\n \n\n\n \nConcertino for Tuba\n\nBencriscutto\nShawnee Press (1961)\n \n\n\n \nSolo Pomposo\n\nHayes\nFillmore Brothers (1911)\n \n\n\nMallet Percussion\nDotty Dimples\n\nGreen/Cahn\nHoney Rock (1995)\n \n\n\n \nGalop (from ‘Comedians’)\n\nKabalevsky/Mitchell\nMCA Music (1948)\n \n\n\n \nSerenade for a Picket Fence\n\nLeyden\nEMS (1956)\n \n\n\n \nXylophonia\n\nGreen/Cahn\nWilliam L. Cahn (1982)\n \n\n\nViolin\nCarmen Fantasy\, Op 25\nSarasate/Dvijvers\nBaton Music\nany one movement\n\n\n \nConcerto No 1 in g minor\, Op. 26\nBruch/Hindsley\nHindsley Transcriptions\nfirst movement\n\n\n \nConcerto in D Major\, Op. 35\nTchaikovsky/Hindsley\n\nHindsley Transcriptions\nfirst movement\n\n\n \nPolonaise Brilliante\, Op 4 \nWieniawski/Hall\nmanuscript\n 
URL:https://medinacommunityband.org/events/mcb-announcing-1st-annual-senior-solo-competition-for-2020-click-on-event-for-details/
LOCATION:Medina High School Middle Stage\, 777 E Union St\, Medina\, OH\, 44256\, United States
CATEGORIES:Free Indoor Concerts,Senior Solo Competition
END:VEVENT
END:VCALENDAR