BEGIN:VCALENDAR
VERSION:2.0
PRODID:-//Medina Community Band - ECPv6.15.20//NONSGML v1.0//EN
CALSCALE:GREGORIAN
METHOD:PUBLISH
X-ORIGINAL-URL:https://medinacommunityband.org
X-WR-CALDESC:Events for Medina Community Band
REFRESH-INTERVAL;VALUE=DURATION:PT1H
X-Robots-Tag:noindex
X-PUBLISHED-TTL:PT1H
BEGIN:VTIMEZONE
TZID:America/New_York
BEGIN:DAYLIGHT
TZOFFSETFROM:-0500
TZOFFSETTO:-0400
TZNAME:EDT
DTSTART:20180311T070000
END:DAYLIGHT
BEGIN:STANDARD
TZOFFSETFROM:-0400
TZOFFSETTO:-0500
TZNAME:EST
DTSTART:20181104T060000
END:STANDARD
BEGIN:DAYLIGHT
TZOFFSETFROM:-0500
TZOFFSETTO:-0400
TZNAME:EDT
DTSTART:20190310T070000
END:DAYLIGHT
BEGIN:STANDARD
TZOFFSETFROM:-0400
TZOFFSETTO:-0500
TZNAME:EST
DTSTART:20191103T060000
END:STANDARD
BEGIN:DAYLIGHT
TZOFFSETFROM:-0500
TZOFFSETTO:-0400
TZNAME:EDT
DTSTART:20200308T070000
END:DAYLIGHT
BEGIN:STANDARD
TZOFFSETFROM:-0400
TZOFFSETTO:-0500
TZNAME:EST
DTSTART:20201101T060000
END:STANDARD
BEGIN:DAYLIGHT
TZOFFSETFROM:-0500
TZOFFSETTO:-0400
TZNAME:EDT
DTSTART:20210314T070000
END:DAYLIGHT
BEGIN:STANDARD
TZOFFSETFROM:-0400
TZOFFSETTO:-0500
TZNAME:EST
DTSTART:20211107T060000
END:STANDARD
END:VTIMEZONE
BEGIN:VEVENT
DTSTART;TZID=America/New_York:20200408T190000
DTEND;TZID=America/New_York:20200408T210000
DTSTAMP:20260423T232741
CREATED:20190819T194124Z
LAST-MODIFIED:20200312T211936Z
UID:2271-1586372400-1586379600@medinacommunityband.org
SUMMARY:MCB Rehearsal
DESCRIPTION:  \n\n\n\nComposition\nConcert Date\nComposer/Arranger\nComments\n\n\n \n \n \n \n\n\nPrelude & Fugue in g minor\nWarm-up\nBach/Moehlmann\nNeiman conducting\n\n\nConcerto for Horn in E-flat\, No 3\, Mvt 1\nMay 3\nMozart/Yeago\nAccompaniment only\, Neiman conducting\n\n\nTarentelle\nMay 3\nSaint-Saëns/Bruske\nGrof-Neiman & Muhl soloists\, Neiman conducting\n\n\nMonkey Business\n\nMay 3\nLovrien\nConnors conducting\n\n\n \n \n \n \n\n\nIndiana Jones Selections\nMay 3\nWilliams/van der Heide\nNeiman conducting\n\n\nOrpheus in the Underworld (Overture)\n\nMay 3\n\nOffenbach/Odom\n\nNeiman conducting\n\n\n\nPearl Fishers Duet\nMay 3\nBizet/de Meij\nRosin & Mitchell soloists\, Connors conducting\n\n\nExcelsior (Galop)\nMay 3\nKing/Milford\nHastings conducting\n\n\nFanfare: Summon the Heroes\n May 3\nWilliams/Lavender \nHastings conducting \n\n\nNobles of the Mystic Shrine\n\nMay 3\nSousa\nConnors conducting\n\n\nCircus Bee (March)\nMay 3\n\nFillmore\nNeiman conducting\n\n\n\n \n \n \n 
URL:https://medinacommunityband.org/events/mcb-rehearsal/
LOCATION:Highland Middle School Band Room\, 3880 Ridge Road\, Medina\, OH\, 44256\, United States
CATEGORIES:Rehearsal
END:VEVENT
BEGIN:VEVENT
DTSTART;VALUE=DATE:20200401
DTEND;VALUE=DATE:20200402
DTSTAMP:20260423T232742
CREATED:20200311T202545Z
LAST-MODIFIED:20200326T161117Z
UID:2508-1585699200-1585785599@medinacommunityband.org
SUMMARY:Rehearsal Cancelled for April 1 2020
DESCRIPTION:Per Marcus Neiman:  Rehearsal for April 1 has been cancelled as a precautionary measure due to COVID-19 virus.  Both Highland Local Schools and Medina City Schools\, where we rehearse\, will be closed\, per order of Ohio Governor DeWine through April 3. \nFuture cancellation(s) of rehearsal(s) will be updated as information becomes available to us.
URL:https://medinacommunityband.org/events/rehearsal-cancelled-for-march-11-2020/2020-04-01/
LOCATION:Highland Middle School Band Room\, 3880 Ridge Road\, Medina\, OH\, 44256\, United States
CATEGORIES:Cancellation - Rehearsal / Concert,Rehearsal
ATTACH;FMTTYPE=image/png:https://medinacommunityband.org/wp-content/uploads/2019/02/site-icon-medina-county-band-1.png
END:VEVENT
BEGIN:VEVENT
DTSTART;TZID=America/New_York:20190925T190000
DTEND;TZID=America/New_York:20190925T210000
DTSTAMP:20260423T232742
CREATED:20190926T175450Z
LAST-MODIFIED:20190926T175450Z
UID:2304-1569438000-1569445200@medinacommunityband.org
SUMMARY:MCB Rehearsal  Copy
DESCRIPTION:Composition\nConcert\nComposer/Arranger\nComment(s)\n\n\n \n \n \n \n\n\nBalladair\n\n \nErickson\n \n\n\nThemes from Green Bushes\n\nJan 26\nGrainger/Daehn\nNeiman\, conducting\n\n\nMonkey Business\n\nMay 03\nDavid Lovrien\nNeiman\, conducting\n\n\nCircus Bee\n\nMay 03\nHenry Fillmore\nNeiman\, conducting\n\n\nCarnival of the Animals – Aquarium\n\nJan 26\nCamille Saint-Saëns\nNeiman\, conducting\n\n\nCarnival of the Animals – Fossils\n\nJan 26\nCamille Saint-Saëns\nNeiman\, conducting\n\n\nRhapsody for Flute and Wind Symphony\nJan 26\nStephen Bulla\nKristin Thompson\, soloist – John Connors\, conducting\n\n\nCountry Gardens\nJan 26\nGrainger/Sousa\nJohn Connors\, conducting\n\n\nThe Planets – Jupiter\n\nMay 03\nHolst\nNeiman\, conducting\n\n\nOrpheus in the Underworld (Overture)\nMay 03\nOffenbach/Odom\nNeiman\, conducting\n\n\n \n \n \n \n\n\n \n \n \n \n\n\n \n \n \n \n\n\n \n \n \n \n\n\n \n \n \n \n\n\n \n \n \n \n\n\n \n \n \n \n\n\n \n \n \n \n\n\n \n \n \n \n\n\n\n 
URL:https://medinacommunityband.org/events/mcb-rehearsal-2-2019-05-22-2019-07-24-copy-4/
LOCATION:Highland Middle School Band Room\, 3880 Ridge Road\, Medina\, OH\, 44256\, United States
CATEGORIES:Rehearsal
END:VEVENT
BEGIN:VEVENT
DTSTART;TZID=America/New_York:20190724T190000
DTEND;TZID=America/New_York:20190724T200000
DTSTAMP:20260423T232742
CREATED:20190721T211518Z
LAST-MODIFIED:20190721T211518Z
UID:2238-1563994800-1563998400@medinacommunityband.org
SUMMARY:MCB Rehearsal  Copy
DESCRIPTION:Composition\nConcert\nComposer/Arranger\nComment(s)\n\n\n \n \n \n \n\n\n“17 Come Sunday” ( from “English Folk Song Suite”)\nJuly 26\nVaughan Williams\n \n\n\n“Esprit De Corps”\nJuly 26\nSousa\nJohn Connors\, conducting\n\n\n“La Pastorella delle Alpi”\nJuly 26\nRossini/Seiberling\nKristin Thompson\, soloist – John Connors\, cond.\n\n\n“After the Cake Walk”\nJuly 26\nDett/Perna\n \n\n\n“Adagio from Concierto De Aranjuez”\n\nJuly 26\nRodrigo/Bolton\nPaul Rocco\, soloist (brass only)\n\n\n“Emblem of Unity”\nJuly 26\nRichards\n \n\n\n“Sextet” (from Lucia Di Lammermoor) \nJuly 26\nDonizetti/Smith\n \n\n\n“Buick March”\nJuly 26\nHazel\n \n\n\n“Nessun Dorma”\nJuly 26\nPuccini/Stauffer\nDan Doty\, soloist\n\n\n“La Donna E Mobile”\nJuly 26\nVerdi/Stauffer\nDan Doty\, soloist\n\n\n“The Elephant March”\nJuly 26\nHume\n \n\n\n“Till We Meet Again”\nJuly 26\nWhiting/Teague\n \n\n\n \n \n \n \n\n\n \n \n \n \n\n\n\n 
URL:https://medinacommunityband.org/events/mcb-rehearsal-2-2019-05-22-2019-07-24-copy/
LOCATION:Medina High School Orchestra Room\, 777 East Union Street\, Medina\, OH\, 44256\, United States
CATEGORIES:Rehearsal
END:VEVENT
BEGIN:VEVENT
DTSTART;TZID=America/New_York:20190717T190000
DTEND;TZID=America/New_York:20190717T201500
DTSTAMP:20260423T232742
CREATED:20190504T210606Z
LAST-MODIFIED:20190717T174801Z
UID:1309-1563390000-1563394500@medinacommunityband.org
SUMMARY:MCB Rehearsal
DESCRIPTION:Composition\nConcert\nComposer/Arranger\nComment(s)\n\n\n \n \n \n \n\n\n“17 Come Sunday” ( from English Folk Song Suite”)\nJuly 26\nVaughan Williams\n \n\n\n“Esprit De Corps”\nJuly 26\nSousa\nJohn Connors\, conducting\n\n\n“La Pastorella delle Alpi”\nJuly 26\nRossini/Seiberling\nKristin Thompson\, soloist & John Connors\, cond\n\n\n“After the Cakewalk”\nJuly 26\nDett/Perna\nJohn Connors\, conducting\n\n\n“Adagio from Concierto De Aranjuez”\n\nJuly 26\nRodrigo/Bolton\nPaul Rocco\, soloist (brass only)\n\n\n“Emblem of Unity”\nJuly 26\nRichards\n \n\n\n“Sextet from Lucia”\n\nJuly 26\nDonizette/Smith\n \n\n\n“Buick March”\n\nJuly 26\nHazel\n \n\n\n“Nessun Dorma”\nJuly 26\nPuccini/Staffer\nDan Doty\, soloist\n\n\n“La Donna E Mobile”\nJuly 26\nVerdi/Stauff\nDan Doty\, soloist\n\n\n“The Elephant March”\nJuly 26\nHume\n \n\n\n“Till We Meet Again”\n\nJuly 26\nWhiting/Teague\n \n\n\n \n \n \n \n\n\n \n \n \n \n\n\n\n 
URL:https://medinacommunityband.org/events/mcb-rehearsal-2-2019-05-22-2019-07-17/
LOCATION:Medina High School Orchestra Room\, 777 East Union Street\, Medina\, OH\, 44256\, United States
CATEGORIES:Rehearsal
END:VEVENT
BEGIN:VEVENT
DTSTART;TZID=America/New_York:20190710T190000
DTEND;TZID=America/New_York:20190710T210000
DTSTAMP:20260423T232742
CREATED:20190504T210606Z
LAST-MODIFIED:20190704T152850Z
UID:1308-1562785200-1562792400@medinacommunityband.org
SUMMARY:MCB Rehearsal
DESCRIPTION:Composition\nConcert\nComposer/Arranger\nComment(s)\n\n\n \n \n \n \n\n\n“La Belle Hélène” Overture\nJuly 19\nOffenbach/Odom\n \n\n\n“Emblem of Unity” March\nJuly 19\nRichards\n \n\n\n“Morceau Symphonique”\nJuly 19\nGuilmant/Shepard\nGeorge Rosin\, soloist\n\n\n“Fly Me to the Moon”\nJuly 19\nHoward/Hoshide\n \n\n\n“Sabre Dance” (from Gayaneh)\nJuly 19\nKhachaturian/Leidzen\n \n\n\n“Billboard” March\nJuly 19\nKlohr\n \n\n\n“Carnival of the Animals”\nJuly 19\nSaint-Saëns/Bocook\n \n\n\n“Semper Fidelis” March\nJuly 19\nSousa\n \n\n\n \n \n \n \n\n\n“Symphonic Marches”\nJuly 12\nWilliams/Lavender\n \n\n\n“His Excellency” March\nJuly 12\nFillmore\n \n\n\n“Lassus Trombone”\nJuly 12\nFillmore\nLori Ciulla\, conducting\n\n\n“March of the Resistance”\nJuly 12\nWilliams/Lavender\n \n\n\n“Americans We” March\nJuly 12\nFillmore\n \n\n\n“State Street Strut” Dixieland\n\nJuly 12\nMcLeod\nGrof-Neiman\, Gresh\, Hannah\, Snyder\n\n\n“Shenandoah”\nJuly 12\nTicheli\nJohn Connors\, conducting\n\n\n“Gifted Leadership” March\nJuly 12\nFillmore\nJohn Connors\, conducting\n\n\n“Libertango”\n\nJuly 12\nPiazzolla/Somadossi\n \n\n\n“Across the Field”\nJuly 12\nDougherty\n \n\n\n \n \n \n \n\n\n\n 
URL:https://medinacommunityband.org/events/mcb-rehearsal-2-2019-05-22-2019-07-10/
LOCATION:Medina High School Orchestra Room\, 777 East Union Street\, Medina\, OH\, 44256\, United States
CATEGORIES:Rehearsal
END:VEVENT
BEGIN:VEVENT
DTSTART;TZID=America/New_York:20190703T190000
DTEND;TZID=America/New_York:20190703T210000
DTSTAMP:20260423T232742
CREATED:20190504T210606Z
LAST-MODIFIED:20190629T031554Z
UID:1307-1562180400-1562187600@medinacommunityband.org
SUMMARY:MCB Rehearsal
DESCRIPTION:Composition\nConcert\nComposer/Arranger\nComment(s)\n\n\n \n \n \n \n\n\n“Symphonic Marches”\nJuly 12\nWilliams/Lavender/Higgins\n \n\n\n“His Excellency” (March)\nJuly 12\nFillmore\n \n\n\n“Lassus Trombone”\nJuly 12\nFillmore\n \n\n\n“March of the Resistance”\nJuly 12\nWilliams/Lavender\nLori Ciulla\, conducting\n\n\n“Americans We”\nJuly 12\nFillmore\n \n\n\n“State Street Strut”\n\nJuly 12\nMcLeod\nGrof-Neiman\, Nelson-Kline\, Hannah\, Snyder\n\n\n“Shenandoah”\nJuly 12\nTicheli\nJohn Connors\, conducting\n\n\n“Gifted Leadership” (March)\nJuly 12\nFillmore\nJohn Connors\, conducting\n\n\n“Libertango”\n\nJuly 12\nPiazzolla/Somadossi\n \n\n\n“Across the Field”\nJuly 12\nDougherty\n \n\n\n“Medina High School Alma Mater”\nJuly 12\n \n \n\n\n \n \n \n \n\n\n“Indiana Jones Selection”\nJuly 4\nWilliams/van der Heide\n \n\n\n“Fly Me to the Moon”\nJuly 4\nHoward/Hoshide)\n \n\n\n“From the Shores of the Mighty Pacific”\nJuly 4\nClarke\nKevin Wallick\, soloist\n\n\n“Yankee Girl” March\nJuly 4\nLampe\nMatthew Hastings\, conductor\n\n\n“Cheerio”\nJuly 4\nGoldman\nMatthew Hastings\, conducting\n\n\n“Concertino\, Op. 107”\nJuly 4\nChaminade/Wilson\nSadie Nayman\, soloist\n\n\n“El Capitan” March\nJuly 4\nSousa\n \n\n\n“I Dreamed a Dream”\nJuly 4\nSchönberg\nDenise Milner Howell\, soloist\n\n\n“Irving Berlin – Songs of America”\nJuly 4\nBerlin/Swearingen\nDenise Milner Howell\, soloist\n\n\n“Armed Forces Salute”\nJuly 4\narr. Lowden\nDenise Milner Howell\, soloist\n\n\n\n 
URL:https://medinacommunityband.org/events/mcb-rehearsal-2-2019-05-22-2019-07-03/
LOCATION:Medina High School Orchestra Room\, 777 East Union Street\, Medina\, OH\, 44256\, United States
CATEGORIES:Rehearsal
END:VEVENT
BEGIN:VEVENT
DTSTART;TZID=America/New_York:20190626T190000
DTEND;TZID=America/New_York:20190626T210000
DTSTAMP:20260423T232742
CREATED:20190504T210606Z
LAST-MODIFIED:20190620T133440Z
UID:1306-1561575600-1561582800@medinacommunityband.org
SUMMARY:MCB Rehearsal
DESCRIPTION:Composition\nConcert\nComposer/Arranger\nComment(s)\n\n\n \n \n \n \n\n\n“Indiana Jones Selection”\nJuly 4\nWilliams/van der Heide\n \n\n\n“Fly Me to the Moon”\nJuly 4\nHoward/Hoshide\n \n\n\n“Debutante”\nJuly 4\nClarke\nKevin Wallick\, soloist\n\n\n“Yankee Girl”\nJuly 4\nLampe\nMatthew Hastings\, conducting\n\n\n“Cheerio March”\nJuly 4\nGoldman\nMatthew Hastings\, conducting\n\n\n“Concertino\, Op. 107”\nJuly 4\nChaminade/Wilson\nSadie Nayman\, soloist\n\n\n“El Capitan”\nJuly 4\nSousa\n \n\n\n“I Dreamed a Dream”\nJuly 4\nSchönberg/Barker\nDenise Milner Howell\, soloist\n\n\n“Irving Berlin – Songs of America”\nJuly 4\nBerlin/Swearingen\nDenise Milner Howell\, soloist\n\n\n“Armed Forces Salute”\nJuly 4\narr. Lowden\n \n\n\n \n \n \n \n\n\n“La Belle Hélène”\nJune 28\nOffenbach/Odom\n \n\n\n“Bullets & Bayonets”\nJune 28\nSousa/Fennell\n \n\n\n“From the Shores of the Pacific”\nJune 28\nClarke\nKevin Wallick\, soloist\n\n\n“Pathfinder of Panama”\nJune 28\nSousa\nMatthew Hastings\, conducting\n\n\n“Colonel Bogey”\nJune 28\nAlford\nMatthew Hastings\, conducting\n\n\n“La Pastorella delle Alpi”\nJune 28\nRossini/Seiberling\nKristen Thompson\, soloist\n\n\n“Grandoso”\nJune 28\nSeitz\n \n\n\n“Libertango”\nJune 28\nPiazzolla/Somadossi\n \n\n\n“Stars and Stripes Forever”\nJune 28\nSousa\n \n\n\n“God Bless America”\nJune 28\nBerlin/Leidzén\n \n\n\n \n \n \n \n\n\n \n \n \n \n\n\n \n \n \n \n\n\n\n 
URL:https://medinacommunityband.org/events/mcb-rehearsal-2-2019-05-22-2019-06-26/
LOCATION:Medina High School Orchestra Room\, 777 East Union Street\, Medina\, OH\, 44256\, United States
CATEGORIES:Rehearsal
END:VEVENT
BEGIN:VEVENT
DTSTART;TZID=America/New_York:20190619T190000
DTEND;TZID=America/New_York:20190619T210000
DTSTAMP:20260423T232742
CREATED:20190504T210606Z
LAST-MODIFIED:20190613T153227Z
UID:1305-1560970800-1560978000@medinacommunityband.org
SUMMARY:MCB Rehearsal
DESCRIPTION:Composition\nConcert\nComposer/Arranger\nComment(s)\n\n\n \n \n \n \n\n\nLa Belle Hélène\nJune 28\nOffenbach/Odom\n \n\n\nBullets & Bayonets\nJune 28\nSousa/Fennell\n \n\n\nShores of the Mighty Pacific\nJune 28\nClarke\nKevin Wallick\, soloist\n\n\nPathfinder of Panama\nJune 28\nSousa\nMatthew Hastings\, conducting\n\n\nColonel Bogey\nJune 28\nAlford\nMatthew Hastings\, conducting\n\n\nLa Pastorella Delle Alpi\nJune 28\nRossini/Seiberling\nKristin Thompson\n\n\nGrandioso\nJune 28\nSeitz\n \n\n\nLibertango\nJune 28\nPiazzolla/Somadossi\n \n\n\n \n \n \n \n\n\nPixar Movie Magic\nJune 21\narr. Brown\n \n\n\nMr. Rogers Neighborhood\nJune 21\nRogers/Murtha\n \n\n\nStar Wars – The Marches\nJune 21\nWilliams/Brubaker\n \n\n\nJurassic Park – Medley\nJune 21\nWilliams/Sweeney\nMatthew Hastings\, conducting\n\n\nFrozen – Highlights\nJune 21\narr. O’Loughlin\n \n\n\nPirates of the Caribbean\nJune 21\nBadelt/Wasson\n \n\n\nCaptain America\nJune 21\nSilvestri/Brown\n \n\n\nStars & Stripes Forever\nJune 21\nSousa\n \n\n\nGod Bless America\n\nJune 21\nBerlin/Leidzén\n \n\n\n\n 
URL:https://medinacommunityband.org/events/mcb-rehearsal-2-2019-05-22-2019-06-19/
LOCATION:Medina High School Orchestra Room\, 777 East Union Street\, Medina\, OH\, 44256\, United States
CATEGORIES:Rehearsal
END:VEVENT
BEGIN:VEVENT
DTSTART;TZID=America/New_York:20190612T190000
DTEND;TZID=America/New_York:20190612T210000
DTSTAMP:20260423T232742
CREATED:20190504T210606Z
LAST-MODIFIED:20190606T185449Z
UID:1304-1560366000-1560373200@medinacommunityband.org
SUMMARY:MCB Rehearsal
DESCRIPTION:Composition\nConcert\nComposer/Arranger\nComment(s)\n\n\n \n \n \n \n\n\n“Pixar Movie Magic”\nJune 21\narr. Brown\n \n\n\n“Mister Rogers Neighborhood”\nJune 21\nRogers/Murtha\n \n\n\n“Star Wars – the Marches”\nJune 21\nWilliams/Brubaker\n \n\n\n“Tarantella”\nJune 21\nSaint-Saëns/Bruske\nMuhl & Grof-Neiman\, soloists\n\n\n“Jurassic Park – Medley”\nJune 21\nWilliams/Sweeney\nMatthew Hastings\, conducting\n\n\n“Frozen – Highlights”\nJune 21\narr. O’Loughlin\n \n\n\n“Pirates of the Caribbean”\nJune 21\nBadelt/Wasson\n \n\n\n“Captain America – Theme”\nJune 21\nSilvestri/Brown\n \n\n\n \n \n \n \n\n\n“Star Spangled Banner”\nJune 14\nSmith/Sousa\n \n\n\n“Light Cavalry Overture”\nJune 14\nSuppé/Fillmore\n \n\n\n“Old Glory Triumphant”\nJune 14\nDuble\n \n\n\n“Beelzebub”\nJune 14\nCatozzi/Reeves\nAndrew Tatman\, soloist\n\n\n“Vanished Army”\nJune 14\nAlford\n \n\n\n“A Simple Song”\nJune 14\nBernstein/Sweeney\n \n\n\n“On the Mall”\nJune 14\nGoldman\n \n\n\n“Vimy Ridge”\nJune 14\nBidgood\n \n\n\n“Concerto in C Major”\nJune 14\nVivaldi/Yeago\nMcLaughlin & Muhl\, soloists\n\n\n“Gold Bug”\nJune 14\nHerbert\n \n\n\n“Armed Forces Salute”\nJune 14\narr. Lowden\n \n\n\n“Stars and Stripes Forever”\nJune 14\nSousa\n \n\n\n“God Bless America”\nJune 14\nBerlin/Leidzén\n \n\n\n \n \n \n \n\n\n\n 
URL:https://medinacommunityband.org/events/mcb-rehearsal-2-2019-05-22-2019-06-12/
LOCATION:Medina High School Orchestra Room\, 777 East Union Street\, Medina\, OH\, 44256\, United States
CATEGORIES:Rehearsal
END:VEVENT
BEGIN:VEVENT
DTSTART;TZID=America/New_York:20190605T190000
DTEND;TZID=America/New_York:20190605T210000
DTSTAMP:20260423T232742
CREATED:20190504T210606Z
LAST-MODIFIED:20190603T184338Z
UID:1303-1559761200-1559768400@medinacommunityband.org
SUMMARY:MCB Rehearsal\, June 05 2019
DESCRIPTION:Composition\nConcert\nComposer/Arranger\nComment(s)\n\n\n \n \n \n \n\n\n“Light Cavalry”\nJune 14\nSuppé/Fillmore\n \n\n\n“Old Glory Triumphant”\nJune 14\nDuble\n \n\n\n“Beelzebub”\nJune 14\nCatozzi/Reeves\nAndrew Tatman\, soloist\n\n\n“Vanished Army”\nJune 14\nAlford\n \n\n\n“A Simple Song”\nJune 14\nBernstein/Sweeney\n \n\n\n“On the Mall”\nJune 14\nGoldman\n \n\n\n“Vimy Ridge”\nJune 14\nBidgood\n \n\n\n“Concerto in C Maj”\nJune 14\nVivaldi/Yeago\nMcLaughlin & Muhl\, soloists\n\n\n“Gold Bug”\nJune 14\nHerbert\n \n\n\n“Armed Forces Salute”\nJune 14\narr. Lowden\n \n\n\n \n \n \n \n\n\n“Star Spangled Banner”\nJune 7\nSmith/Sousa\n \n\n\n“Slava!”\n\nJune 7\nBernstein/Grundman\n \n\n\n“March of the Resistance”\nJune 7\nWilliams/Lavender\n \n\n\n“Csárdás”\nJune 7\nMonti/Sorban\nGrof-Neiman\, soloist\n\n\n“Washington Grays”\nJune 7\nGrafulla/Reeves\nConnors\, conducting\n\n\n“Vienna\, City of My Dreams”\nJune 7\nSieczynski/Smith\nMilner Howell\, soloist\n\n\n“By Strauss”\nJune 7\nGershwin/Hall\nMilner Howell\, soloist\n\n\n“Respect”\nJune 7\nRedding/Franklin\n \n\n\n“Trumpet Filigree”\nJune 7\nWalters\ntrumpet quartet\n\n\n“Trombone King”\nJune 7\nKing\n \n\n\n“Celtic Flutes”\nJune 7\nGäble\nMcLaughlin & Muhl\, soloists\n\n\n“Esprit De Corps”\nJune 7\nSousa\n \n\n\n“Stars and Stripes Forever”\nJune 7\nSousa\n \n\n\n“God Bless America”\nJune 7\nBerlin/Leidzén\n \n\n\n \n \n \n \n\n\n\n 
URL:https://medinacommunityband.org/events/mcb-rehearsal-june-05-2019/
LOCATION:Medina High School Orchestra Room\, 777 East Union Street\, Medina\, OH\, 44256\, United States
CATEGORIES:Rehearsal
END:VEVENT
BEGIN:VEVENT
DTSTART;TZID=America/New_York:20190529T190000
DTEND;TZID=America/New_York:20190529T210000
DTSTAMP:20260423T232742
CREATED:20190504T210606Z
LAST-MODIFIED:20190529T015656Z
UID:1302-1559156400-1559163600@medinacommunityband.org
SUMMARY:MCB Rehearsal
DESCRIPTION:Composition\nConcert\nComposer/Arranger\nComment(s)\n\n\n \n \n \n \n\n\n“Symphonic Marches”\n19 07 12\nWilliams/Lavender\n \n\n\n“His Excellency”\n19 07 12\nFillmore\n \n\n\n“Lassus Trombone”\n19 07 12\nFillmore\n \n\n\n“March of the Resistance” \n19 07 12\nWilliams/Lavender\n \n\n\n“Americans We”\n19 07 12\nFillmore\n \n\n\n“Shenandoah”\n19 07 12\narr. Ticheli\nConnors\, conducting\n\n\n“Gifted Leadership”\n19 07 12\nFillmore\nConnors\, conducting\n\n\n“Across the Field”\n19 07 12\nDougherty\n \n\n\n“Medina Alma Mater”\n19 07 12\narr. Hicks\n \n\n\n \n \n \n \n\n\n“Slava!”\n19 06 07\nBernstein/Grundman\n \n\n\n“Csárdás”\n19 06 07\nMonti/Sorbon\nGrof-Neiman\, soloist\n\n\n“Washington Grays”\n19 06 07\nGrafulla/Laurendeau\nConnors\, conducting\n\n\n“Vienna\, City of My Dreams”\n19 06 07\nSieczynski/Smith\nMilner Howell\n\n\n“By Strauss”\n19 06 07\nGershwin/Hall\nMilner Howell\n\n\n“Respect”\n19 06 07\nRedding/Franklin\n \n\n\n“Trumpet Filigree”\n19 06 07\nWalters\ncornet quartet\n\n\n“Trombone King”\n19 06 07\nKing\n \n\n\n“Celtic Flutes”\n19 06 07\nGäble\nMcLaughlin & Muhl\n\n\n“Esprit De Corps”\n19 06 07\nSousa\nConnors\, conducting\n\n\n \n \n \n \n\n\n\n 
URL:https://medinacommunityband.org/events/mcb-rehearsal-2-2019-05-22-2019-05-29/
LOCATION:OH
CATEGORIES:Rehearsal
END:VEVENT
BEGIN:VEVENT
DTSTART;TZID=America/New_York:20190522T190000
DTEND;TZID=America/New_York:20190522T210000
DTSTAMP:20260423T232742
CREATED:20190504T210606Z
LAST-MODIFIED:20190528T221235Z
UID:1301-1558551600-1558558800@medinacommunityband.org
SUMMARY:MCB Rehearsal
DESCRIPTION:Composition\nConcert\nComposer/Arranger\nComment(s)\n\n\n \n \n \n \n\n\n \n \n \n \n\n\n \n \n \n \n\n\n \n \n \n \n\n\n \n \n \n \n\n\n \n \n \n \n\n\n \n \n \n \n\n\n \n \n \n \n\n\n \n \n \n \n\n\n \n \n \n \n\n\n \n \n \n \n\n\n \n \n \n \n\n\n \n \n \n \n\n\n \n \n \n \n\n\n \n \n \n \n\n\n\n 
URL:https://medinacommunityband.org/events/mcb-rehearsal-2-2019-05-22/
LOCATION:OH
CATEGORIES:Rehearsal
END:VEVENT
END:VCALENDAR